BEGIN:VCALENDAR
VERSION:2.0
PRODID:-//ACOS//NONSGML CMS 17.10.4686//EN
BEGIN:VEVENT
UID:6cce806e-b761-b077-3abf-60782094b2e9
SUMMARY:Rådsmøte
DTSTART:20260427T070000Z
DTEND:20260428T140000Z
SEQUENCE:0
CREATED:20251209T082237Z
DTSTAMP:20260424T143944Z
END:VEVENT
END:VCALENDAR
