BEGIN:VCALENDAR
VERSION:2.0
PRODID:-//ACOS//NONSGML CMS 17.10.4686//EN
BEGIN:VEVENT
UID:aea7b800-4c63-e1eb-13bf-7f266807e4dd
SUMMARY:High North Dialogue 2026
DESCRIPTION:Mer om High North Dialogue 2026
DTSTART:20260422T100000Z
DTEND:20260423T100000Z
LOCATION:Bådåddjo/Bodø
SEQUENCE:0
CREATED:20260224T115542Z
DTSTAMP:20260421T214135Z
END:VEVENT
END:VCALENDAR
