BEGIN:VCALENDAR
VERSION:2.0
PRODID:-//ACOS//NONSGML CMS 17.10.4686//EN
BEGIN:VEVENT
UID:6f4fc25a-73ab-f2fe-0d67-5c55ef2db959
SUMMARY:Møte med Helse Nord RHF
DTSTART:20260423T100000Z
DTEND:20260423T110000Z
SEQUENCE:0
CREATED:20260317T115807Z
DTSTAMP:20260423T134530Z
END:VEVENT
END:VCALENDAR
