BEGIN:VCALENDAR
VERSION:2.0
PRODID:-//ACOS//NONSGML CMS 17.10.4686//EN
BEGIN:VEVENT
UID:f4125dda-07b8-1c77-6fb2-e242396241a1
SUMMARY:Styringsgruppemøte samisk reiselivsstrategi
DTSTART:20260429T073000Z
DTEND:20260429T093000Z
SEQUENCE:0
CREATED:20260323T114845Z
DTSTAMP:20260424T180610Z
END:VEVENT
END:VCALENDAR
