BEGIN:VCALENDAR
VERSION:2.0
PRODID:-//ACOS//NONSGML CMS 17.10.4686//EN
BEGIN:VEVENT
UID:801b9436-8346-2f47-6e72-fde2f764400a
SUMMARY:Møte i Regionalt nordområdeforum
DTSTART:20260423T110000Z
DTEND:20260423T160000Z
SEQUENCE:0
CREATED:20260326T133629Z
DTSTAMP:20260423T142940Z
END:VEVENT
END:VCALENDAR
