BEGIN:VCALENDAR
VERSION:2.0
PRODID:-//ACOS//NONSGML CMS 17.10.4686//EN
BEGIN:VEVENT
UID:bed781c1-359b-69f6-e391-5a9058fb8cf1
SUMMARY:Deltar på høring om Motorferdselsloven
DESCRIPTION:Mer informasjon: Høring - stortinget.no
DTSTART:20260427T070000Z
DTEND:20260427T130000Z
LOCATION:Stuoradiggi/Stortinget - Oslo
SEQUENCE:0
CREATED:20260414T103517Z
DTSTAMP:20260424T143426Z
END:VEVENT
END:VCALENDAR
