BEGIN:VCALENDAR
VERSION:2.0
PRODID:-//ACOS//NONSGML CMS 17.10.4686//EN
BEGIN:VEVENT
UID:ed2ba241-2287-30a2-6aa1-680e3468facd
SUMMARY:Åpent folkemøte og andre møter i Røyrvik
DESCRIPTION:Program Onsdag 22. april Kl. 18.00-21.00 Åpent folkemøte Ordfører Kennet Tømmermo Reitan ønsker velkommen og forteller om Røyrvik som samisk forvaltningskommune Sametingets politiske rådgivere om Sametingets rolle Kl. 19.00 Kaffe Foredrag om samisk historie i Røyrvik før 1900, med Håkon Hermanstrand Spørsmål og diskusjon Torsdag 23. april Kl. 08.30 Besøk hos Gïeleaernie Kl. 10.00-13.30 Fagdag med kommunestyret, samisk enhet og administrasjonen Oppsummering folkemøtet Håkon Hermanstrand: Sannhet og forsoning Å drive med reindrift i Røyrvik Kaffe og spørsmål/prat Sametingets politiske rådgivere: Samiske og urfolks rettigheter, opprettelsen av Sametinget. Sannhets og forsoning i sørsamisk krets Viktigheten av å være en samisk forvaltningskommune og hva det innebærer Samisk språksenter: oppgaver, språksenterstrategien og samisk styringsgruppe Samiske barn og unges oppvekstsvilkår: sterke språkmodeller. Skole og fritid Kl. 14.00-15.00 Felles middag på gjestegården Kl. 15.15-16.45 Eget møte med politisk ledelse og kommunedirektør i forkant av kommunestyremøtet Kl. 17.00-20.30 Kommunestyremøte Fredag 24. april Kl. 09.00 Oppfølging av fagdag og møter med kommunen med videre felles arbeid Kl. 11.30 Felles lunsj på Limingen gjestegård Kl. 12.30 Avslutning
DTSTART:20260422T160000Z
DTEND:20260424T103000Z
LOCATION:Raarvihke/Røyrvik
SEQUENCE:0
CREATED:20260414T132725Z
DTSTAMP:20260422T173501Z
END:VEVENT
END:VCALENDAR
