BEGIN:VCALENDAR
VERSION:2.0
PRODID:-//ACOS//NONSGML CMS 17.10.4686//EN
BEGIN:VEVENT
UID:a94cbb48-e350-779d-880c-4b2824e34d6f
SUMMARY:Sametingspresidenten møter Forsvarssjefen
DTSTART:20260421T080000Z
DTEND:20260421T123000Z
SEQUENCE:0
CREATED:20260415T082827Z
DTSTAMP:20260420T164025Z
END:VEVENT
END:VCALENDAR
