BEGIN:VCALENDAR
VERSION:2.0
PRODID:-//ACOS//NONSGML CMS 17.10.4686//EN
BEGIN:VEVENT
UID:231a132c-028b-7658-593b-5c3b22e5703a
SUMMARY:Møte med rektorer
DTSTART:20260424T070000Z
DTEND:20260424T110000Z
SEQUENCE:0
CREATED:20260416T114012Z
DTSTAMP:20260423T194556Z
END:VEVENT
END:VCALENDAR
