BEGIN:VCALENDAR
VERSION:2.0
PRODID:-//ACOS//NONSGML CMS 17.10.4686//EN
BEGIN:VEVENT
UID:05778c6b-a75a-216f-8751-0b8cfe6cfc9d
SUMMARY:Ekstraordinært plenumsmøte
DESCRIPTION:Saken behandles av Plan- og finanskomitéen 13. mai , på digitalt møte. Gruppemøter gjennomføres digitalt 12. mai.
DTSTART:20260519T070000Z
DTEND:20260519T100000Z
LOCATION:Digitála/digitalt
SEQUENCE:0
CREATED:20260423T092052Z
DTSTAMP:20260423T142858Z
END:VEVENT
END:VCALENDAR
