BEGIN:VCALENDAR
VERSION:2.0
PRODID:-//ACOS//NONSGML CMS 17.10.4686//EN
BEGIN:VEVENT
UID:942d229b-3a58-0d55-1c07-86ef865ca50f
SUMMARY:Plan- og finanskomitéen har møte
DTSTART;VALUE=DATE:20260513
DTEND:20260513T215900Z
SEQUENCE:0
CREATED:20260423T101723Z
DTSTAMP:20260423T160104Z
END:VEVENT
END:VCALENDAR
